BEGIN:VCALENDAR
VERSION:2.0
PRODID:-//MŠ Pohádka - ECPv5.16.4.1//NONSGML v1.0//EN
CALSCALE:GREGORIAN
METHOD:PUBLISH
X-WR-CALNAME:MŠ Pohádka
X-ORIGINAL-URL:https://www.pohadka-skolka.cz
X-WR-CALDESC:Akce na MŠ Pohádka
BEGIN:VTIMEZONE
TZID:Europe/Prague
BEGIN:DAYLIGHT
TZOFFSETFROM:+0100
TZOFFSETTO:+0200
TZNAME:CEST
DTSTART:20250330T010000
END:DAYLIGHT
BEGIN:STANDARD
TZOFFSETFROM:+0200
TZOFFSETTO:+0100
TZNAME:CET
DTSTART:20251026T010000
END:STANDARD
END:VTIMEZONE
BEGIN:VEVENT
DTSTART;TZID=Europe/Prague:20251002T080000
DTEND;TZID=Europe/Prague:20251002T120000
DTSTAMP:20260425T142735
CREATED:20250924T175415Z
LAST-MODIFIED:20250928T084412Z
UID:2347-1759392000-1759406400@www.pohadka-skolka.cz
SUMMARY:VEVERKY - Obora Holedná
DESCRIPTION:
URL:https://www.pohadka-skolka.cz/kalendar/veverky-obora-holedna/
CATEGORIES:kalendář (nikdy na hlavní stránce)
END:VEVENT
END:VCALENDAR